BEGIN:VCALENDAR
VERSION:2.0
PRODID:-//FGS BT Boston - ECPv6.5.1.4//NONSGML v1.0//EN
CALSCALE:GREGORIAN
METHOD:PUBLISH
X-WR-CALNAME:FGS BT Boston
X-ORIGINAL-URL:https://fgsbtboston.org
X-WR-CALDESC:Events for FGS BT Boston
REFRESH-INTERVAL;VALUE=DURATION:PT1H
X-Robots-Tag:noindex
X-PUBLISHED-TTL:PT1H
BEGIN:VTIMEZONE
TZID:America/New_York
BEGIN:DAYLIGHT
TZOFFSETFROM:-0500
TZOFFSETTO:-0400
TZNAME:EDT
DTSTART:20260308T070000
END:DAYLIGHT
BEGIN:STANDARD
TZOFFSETFROM:-0400
TZOFFSETTO:-0500
TZNAME:EST
DTSTART:20261101T060000
END:STANDARD
END:VTIMEZONE
BEGIN:VEVENT
DTSTART;TZID=America/New_York:20260424T190000
DTEND;TZID=America/New_York:20260424T210000
DTSTAMP:20260425T114124
CREATED:20260327T224452Z
LAST-MODIFIED:20260327T224452Z
UID:7250-1777057200-1777064400@fgsbtboston.org
SUMMARY:English Workshop - Let the Dharma Accompany You Every Day
DESCRIPTION:English Workshop – Let the Dharma Accompany You Every Day 让佛法陪你走每一天
URL:https://fgsbtboston.org/event/english-workshop-let-the-dharma-accompany-you-every-day/
CATEGORIES:en,zh
ATTACH;FMTTYPE=image/png:https://fgsbtboston.org/wp-content/uploads/2026/03/S__33554462.png
END:VEVENT
END:VCALENDAR